BEGIN:VCALENDAR
VERSION:2.0
PRODID:-//The Center for the Restoration of Christian Culture - ECPv6.6.4.2//NONSGML v1.0//EN
CALSCALE:GREGORIAN
METHOD:PUBLISH
X-ORIGINAL-URL:https://restorationchristianculture.org
X-WR-CALDESC:Events for The Center for the Restoration of Christian Culture
REFRESH-INTERVAL;VALUE=DURATION:PT1H
X-Robots-Tag:noindex
X-PUBLISHED-TTL:PT1H
BEGIN:VTIMEZONE
TZID:America/New_York
BEGIN:DAYLIGHT
TZOFFSETFROM:-0500
TZOFFSETTO:-0400
TZNAME:EDT
DTSTART:20250309T070000
END:DAYLIGHT
BEGIN:STANDARD
TZOFFSETFROM:-0400
TZOFFSETTO:-0500
TZNAME:EST
DTSTART:20251102T060000
END:STANDARD
END:VTIMEZONE
BEGIN:VEVENT
DTSTART;TZID=America/New_York:20251022T193000
DTEND;TZID=America/New_York:20251022T210000
DTSTAMP:20260422T161241
CREATED:20251002T175251Z
LAST-MODIFIED:20251111T214301Z
UID:3848-1761161400-1761166800@restorationchristianculture.org
SUMMARY:Nolan Unmasked with John Johnson
DESCRIPTION:Has the most influential “Catholic theologian” of our time been hiding in plain sight? Come hear John Johnson’s take on filmmaker Christopher Nolan\, arguably the most cerebral\, complex storyteller working in film today.\n  \n\n\n \nJohn Johnson\, a Catholic husband and father of seven kids (age 10 and under)\, founded Patmos Hosting and the Albertus Magnus Institute (AMI). Patmos was recently recognized as one of Newsweek’s top five tech startups to work for; John credits the success of Patmos to its foundations in first principles including the dignity of the human person\, subsidiarity\, anti-technocracy\, and a pro-family work culture. AMI is an online college alternative that relentlessly promotes and provides traditional\, liberal education to over 1\,000 students. \nJohn has degrees in philosophy and theology from St. Mary’s College and the Dominican School of Philosophy and Theology. He and his family live on a homestead in the California foothills. \n  \n 
URL:https://restorationchristianculture.org/event/nolan-unmasked/
LOCATION:Mercy Hall\, 90 Concord St.\, Nashua\, NH\, 03060\, United States
CATEGORIES:Lectures
ATTACH;FMTTYPE=image/jpeg:https://restorationchristianculture.org/wp-content/uploads/raamin-ka-dwFOqsbUQcM-unsplash-scaled.jpg
END:VEVENT
END:VCALENDAR