BEGIN:VCALENDAR
VERSION:2.0
PRODID:-//The Center for the Restoration of Christian Culture - ECPv6.6.4.2//NONSGML v1.0//EN
CALSCALE:GREGORIAN
METHOD:PUBLISH
X-ORIGINAL-URL:https://restorationchristianculture.org
X-WR-CALDESC:Events for The Center for the Restoration of Christian Culture
REFRESH-INTERVAL;VALUE=DURATION:PT1H
X-Robots-Tag:noindex
X-PUBLISHED-TTL:PT1H
BEGIN:VTIMEZONE
TZID:America/New_York
BEGIN:DAYLIGHT
TZOFFSETFROM:-0500
TZOFFSETTO:-0400
TZNAME:EDT
DTSTART:20250309T070000
END:DAYLIGHT
BEGIN:STANDARD
TZOFFSETFROM:-0400
TZOFFSETTO:-0500
TZNAME:EST
DTSTART:20251102T060000
END:STANDARD
END:VTIMEZONE
BEGIN:VEVENT
DTSTART;TZID=America/New_York:20251013T193000
DTEND;TZID=America/New_York:20251013T210000
DTSTAMP:20260422T161312
CREATED:20250310T175602Z
LAST-MODIFIED:20251111T214306Z
UID:3833-1760383800-1760389200@restorationchristianculture.org
SUMMARY:Work\, Conversion\, and the Manual Arts with Jacob Imam
DESCRIPTION:How does someone raised in a Muslim household convert to Catholicism? What did the pagans think of manual labor? Why found a Catholic trade school? Join us as New Polity editor Jacob Imam shares his insights on conversion\, work\, and the trades.\n  \n\n\n \nJacob Imam was born into a Muslim home and converted to Catholicism under the guidance of his godfather\, Walter Hooper (C.S. Lewis’s personal secretary). An editor at New Polity\, he graduated from the University of Oxford as a Marshall scholar with his master’s and doctorate\, writing his dissertation on theology and economics. A popular speaker and writer on politics and economics\, Imam has appeared on Pints with Aquinas\, Fox News\, and other media outlets. Imam is the founder and Provost of the College of St. Joseph the Worker\, which combines a Catholic liberal arts education with the practicality of training in a skilled trade. He and his wife\, Alice\, have three young children. \n 
URL:https://restorationchristianculture.org/event/work-on-the-manual-arts-and-conversion-with-jacob-imam/
LOCATION:Mercy Hall\, 90 Concord St.\, Nashua\, NH\, 03060\, United States
CATEGORIES:Lectures
ATTACH;FMTTYPE=image/jpeg:https://restorationchristianculture.org/wp-content/uploads/ricky-kharawala-4dVDBMAho8c-unsplash-scaled.jpg
END:VEVENT
END:VCALENDAR