BEGIN:VCALENDAR
VERSION:2.0
PRODID:-//The Center for the Restoration of Christian Culture - ECPv6.6.4.2//NONSGML v1.0//EN
CALSCALE:GREGORIAN
METHOD:PUBLISH
X-ORIGINAL-URL:https://restorationchristianculture.org
X-WR-CALDESC:Events for The Center for the Restoration of Christian Culture
REFRESH-INTERVAL;VALUE=DURATION:PT1H
X-Robots-Tag:noindex
X-PUBLISHED-TTL:PT1H
BEGIN:VTIMEZONE
TZID:America/New_York
BEGIN:DAYLIGHT
TZOFFSETFROM:-0500
TZOFFSETTO:-0400
TZNAME:EDT
DTSTART:20240310T070000
END:DAYLIGHT
BEGIN:STANDARD
TZOFFSETFROM:-0400
TZOFFSETTO:-0500
TZNAME:EST
DTSTART:20241103T060000
END:STANDARD
END:VTIMEZONE
BEGIN:VEVENT
DTSTART;TZID=America/New_York:20240220T193000
DTEND;TZID=America/New_York:20240220T210000
DTSTAMP:20260420T051131
CREATED:20240206T183254Z
LAST-MODIFIED:20240227T153818Z
UID:3763-1708457400-1708462800@restorationchristianculture.org
SUMMARY:Newman on True Development of Doctrine—and Its Corruptions
DESCRIPTION: \nJoin us for “Newman on True Development of Doctrine—and Its Corruptions” with Robert Royal on Tuesday\, February 20\, 2024 at 7:30pm.  \n \n\n  \nRobert Royal is a Visiting Fellow and Emeritus St. John Henry Newman Visiting Chair in Catholic Studies at Thomas More College. He is founder and president of the Faith & Reason Institute in Washington\, D.C. and Editor-in-Chief of The Catholic Thing. His most recent books are The God That Did Not Fail: How Religion Built and Sustains the West\, A Deeper Vision: The Catholic Intellectual Tradition in the Twentieth Century\, and Columbus and the Crisis of the West.
URL:https://restorationchristianculture.org/event/newman-on-true-development-of-doctrine-and-its-corruptions/
LOCATION:Mercy Hall\, 90 Concord St.\, Nashua\, NH\, 03060\, United States
CATEGORIES:Lectures
ATTACH;FMTTYPE=image/jpeg:https://restorationchristianculture.org/wp-content/uploads/james-hoey-_T3nP37ufGo-unsplash-scaled.jpg
END:VEVENT
END:VCALENDAR