BEGIN:VCALENDAR
VERSION:2.0
PRODID:-//The Center for the Restoration of Christian Culture - ECPv6.6.4.2//NONSGML v1.0//EN
CALSCALE:GREGORIAN
METHOD:PUBLISH
X-WR-CALNAME:The Center for the Restoration of Christian Culture
X-ORIGINAL-URL:https://restorationchristianculture.org
X-WR-CALDESC:Events for The Center for the Restoration of Christian Culture
REFRESH-INTERVAL;VALUE=DURATION:PT1H
X-Robots-Tag:noindex
X-PUBLISHED-TTL:PT1H
BEGIN:VTIMEZONE
TZID:America/New_York
BEGIN:DAYLIGHT
TZOFFSETFROM:-0500
TZOFFSETTO:-0400
TZNAME:EDT
DTSTART:20250309T070000
END:DAYLIGHT
BEGIN:STANDARD
TZOFFSETFROM:-0400
TZOFFSETTO:-0500
TZNAME:EST
DTSTART:20251102T060000
END:STANDARD
END:VTIMEZONE
BEGIN:VEVENT
DTSTART;TZID=America/New_York:20251216T193000
DTEND;TZID=America/New_York:20251216T210000
DTSTAMP:20260422T112503
CREATED:20251113T152336Z
LAST-MODIFIED:20251222T223333Z
UID:3873-1765913400-1765918800@restorationchristianculture.org
SUMMARY:Ghost Runner Book Launch with Phil Lawler
DESCRIPTION:Join us for the launch of Phil Lawler’s new book\, Ghost Runner\, from Sophia Institute Press. \nOne of America’s most respected Catholic writers and cultural critics\, Lawler bursts onto the fiction scene with a riveting debut novel that plunges readers into the hidden battles of the Church in the 1980s. Lawler exposes beneath the surface of parish life and chancery politics a world of secrets\, compromises\, and spiritual warfare—where the faithful struggle to survive and a young priest discovers that he has a special mission—and powerful enemies. \n \n \n  \n Phil Lawler is editor of Catholic World News\, the first English-language Catholic news service operating on the Internet\, which he founded in 1995. His essays appear regularly on CatholicCulture.org as well as his own Substack. \nMr. Lawler has served as Director of Studies for the Heritage Foundation\, a conservative think-tank based in Washington; as founder and president of a national organization of Catholic laity; and as editor of Crisis magazine. In 1986\, he became the first layman to edit The Pilot\, the Boston archdiocesan newspaper. From 1993 through 2005\, he was editor of the international monthly magazine Catholic World Report. His essays\, book reviews\, and editorial columns have appeared in over 100 newspapers around the United States and abroad\, including the Wall Street Journal\, Los Angeles Times\, Washington Post\, and Boston Globe. Ghost Runner is his first novel. \nHe and his wife Leila (the author of the best-selling Summa Domestica) have seven children and (at last count) twenty-two grandchildren. The Lawlers now live in central Massachusetts.
URL:https://restorationchristianculture.org/event/ghost-runner-book-launch-with-phil-lawler/
LOCATION:NH
CATEGORIES:Lectures
ATTACH;FMTTYPE=image/png:https://restorationchristianculture.org/wp-content/uploads/Ghost-Runner.png
END:VEVENT
END:VCALENDAR