BEGIN:VCALENDAR
VERSION:2.0
PRODID:-//The Center for the Restoration of Christian Culture - ECPv6.6.4.2//NONSGML v1.0//EN
CALSCALE:GREGORIAN
METHOD:PUBLISH
X-WR-CALNAME:The Center for the Restoration of Christian Culture
X-ORIGINAL-URL:https://restorationchristianculture.org
X-WR-CALDESC:Events for The Center for the Restoration of Christian Culture
REFRESH-INTERVAL;VALUE=DURATION:PT1H
X-Robots-Tag:noindex
X-PUBLISHED-TTL:PT1H
BEGIN:VTIMEZONE
TZID:America/New_York
BEGIN:DAYLIGHT
TZOFFSETFROM:-0500
TZOFFSETTO:-0400
TZNAME:EDT
DTSTART:20240310T070000
END:DAYLIGHT
BEGIN:STANDARD
TZOFFSETFROM:-0400
TZOFFSETTO:-0500
TZNAME:EST
DTSTART:20241103T060000
END:STANDARD
END:VTIMEZONE
BEGIN:VEVENT
DTSTART;TZID=America/New_York:20240319T193000
DTEND;TZID=America/New_York:20240319T210000
DTSTAMP:20260420T092107
CREATED:20240206T184038Z
LAST-MODIFIED:20240402T142539Z
UID:3767-1710876600-1710882000@restorationchristianculture.org
SUMMARY:Newman's Idea of Conscience\, and Ours (Mercy Hall)
DESCRIPTION: \nJoin us for “Newman’s Idea of Conscience\, and Ours” with Robert Royal on Tuesday\, March 19\, 2024 at 7:30pm. \n \n\n  \nRobert Royal is a Visiting Fellow and Emeritus St. John Henry Newman Visiting Chair in Catholic Studies at Thomas More College. He is founder and president of the Faith & Reason Institute in Washington\, D.C. and Editor-in-Chief of The Catholic Thing. His most recent books are The God That Did Not Fail: How Religion Built and Sustains the West\, A Deeper Vision: The Catholic Intellectual Tradition in the Twentieth Century\, and Columbus and the Crisis of the West.
URL:https://restorationchristianculture.org/event/newmans-idea-of-conscience-and-ours/
LOCATION:Mercy Hall\, 90 Concord St.\, Nashua\, NH\, 03060\, United States
CATEGORIES:Lectures
ATTACH;FMTTYPE=image/jpeg:https://restorationchristianculture.org/wp-content/uploads/annie-spratt-S6aR9JyKdUQ-unsplash-scaled.jpg
END:VEVENT
BEGIN:VEVENT
DTSTART;TZID=America/New_York:20240320T193000
DTEND;TZID=America/New_York:20240320T210000
DTSTAMP:20260420T092107
CREATED:20240305T172850Z
LAST-MODIFIED:20240402T142532Z
UID:3777-1710963000-1710968400@restorationchristianculture.org
SUMMARY:Newman's Idea of Conscience\, and Ours (Abbey)
DESCRIPTION:Join us for “Newman’s Idea of Conscience\, and Ours” with Robert Royal on Wednesday\, March 20\, 2024 at 7:30pm. This lecture will take place at St. Benedict Abbey: 252 Still River Road\, Still River\, MA 01467.  \nThis event will not be livestreamed or recorded; however\, you have the option to join us virtually for the previous evening’s lecture on the same topic (please register here). \n \n\n  \nRobert Royal is a Visiting Fellow and Emeritus St. John Henry Newman Visiting Chair in Catholic Studies at Thomas More College. He is founder and president of the Faith & Reason Institute in Washington\, D.C. and Editor-in-Chief of The Catholic Thing. His most recent books are The God That Did Not Fail: How Religion Built and Sustains the West\, A Deeper Vision: The Catholic Intellectual Tradition in the Twentieth Century\, and Columbus and the Crisis of the West. \n \nImage: Herbert Rose Barraud
URL:https://restorationchristianculture.org/event/event-newmans-idea-of-conscience-and-ours-abbey/
LOCATION:NH
CATEGORIES:Lectures
ATTACH;FMTTYPE=image/png:https://restorationchristianculture.org/wp-content/uploads/newman.png
END:VEVENT
END:VCALENDAR