BEGIN:VCALENDAR
VERSION:2.0
PRODID:-//The Center for the Restoration of Christian Culture - ECPv6.6.4.2//NONSGML v1.0//EN
CALSCALE:GREGORIAN
METHOD:PUBLISH
X-WR-CALNAME:The Center for the Restoration of Christian Culture
X-ORIGINAL-URL:https://restorationchristianculture.org
X-WR-CALDESC:Events for The Center for the Restoration of Christian Culture
REFRESH-INTERVAL;VALUE=DURATION:PT1H
X-Robots-Tag:noindex
X-PUBLISHED-TTL:PT1H
BEGIN:VTIMEZONE
TZID:America/New_York
BEGIN:DAYLIGHT
TZOFFSETFROM:-0500
TZOFFSETTO:-0400
TZNAME:EDT
DTSTART:20220313T070000
END:DAYLIGHT
BEGIN:STANDARD
TZOFFSETFROM:-0400
TZOFFSETTO:-0500
TZNAME:EST
DTSTART:20221106T060000
END:STANDARD
END:VTIMEZONE
BEGIN:VEVENT
DTSTART;TZID=America/New_York:20221212T193000
DTEND;TZID=America/New_York:20221212T203000
DTSTAMP:20260420T201308
CREATED:20220922T181837Z
LAST-MODIFIED:20230307T161017Z
UID:3651-1670873400-1670877000@restorationchristianculture.org
SUMMARY:The Death and Resurrection of Rome: 5th–10th Century with Joseph Pearce
DESCRIPTION:The History of Christendom:\nAn Eight-part Lecture Series\nwith Joseph Pearce\,\nSt. John Henry Newman Visiting Chair in Catholic Studies at Thomas More College \nPart III:\nThe Death and Resurrection of Rome: 5th–10th Century\nDecember 12\, 2022  |  7:30 PM  |  Mercy Hall: 90 Concord St\, Nashua NH \n \n\n  \nJoin us as renowned Catholic author Joseph Pearce lectures on the history of Christendom based on his forthcoming book\, The Good\, the Bad and the Beautiful: History in Three Dimensions. Each lecture will weave the tapestry of the centuries with the goodness of the saints\, the wickedness of the worldly\, and the beauty of great art. These lectures will be live-streamed and recorded. \n \nOctober 10: The Good\, the Bad and the Beautiful: History in Three Dimensions\nNovember 14: From Christ to Constantine: The Early Church\nDecember 12: The Death and Resurrection of Rome: 5th-10th Century\nJanuary 23: The Best and Worst of Times: 11th-13th Century\nFebruary 6: Rupture and Reformation: 14th-16th Century\nMarch 6: Religion and Superstition: 17th-18th Century\nMarch 27: Revolution\, Revelation and Revival: 19th Century\nApril 17: Wars of Irreligion: 20th Century\n \n \nJoseph Pearce is an internationally-acclaimed author and the Director of Book Publishing at the Augustine Institute. He is the editor of the St. Austin Review\, series editor of the Ignatius Critical Editions\, and senior contributor at the Imaginative Conservative. \n  \n“It is truly an honour to have been named the St. John Henry Newman Visiting Chair in Catholic Studies at Thomas More College. I can think of no other faithful Catholic college with which I’d rather be associated.”\n–Joseph Pearce \nImage: The Course of Empire: Destruction by Thomas Cole
URL:https://restorationchristianculture.org/event/the-death-and-resurrection-of-rome-5th-10th-century-with-joseph-pearce/
LOCATION:Mercy Hall\, 90 Concord St.\, Nashua\, NH\, 03060\, United States
CATEGORIES:Lectures
ATTACH;FMTTYPE=image/png:https://restorationchristianculture.org/wp-content/uploads/3.png
END:VEVENT
END:VCALENDAR