BEGIN:VCALENDAR
VERSION:2.0
PRODID:-//The Center for the Restoration of Christian Culture - ECPv6.6.4.2//NONSGML v1.0//EN
CALSCALE:GREGORIAN
METHOD:PUBLISH
X-WR-CALNAME:The Center for the Restoration of Christian Culture
X-ORIGINAL-URL:https://restorationchristianculture.org
X-WR-CALDESC:Events for The Center for the Restoration of Christian Culture
REFRESH-INTERVAL;VALUE=DURATION:PT1H
X-Robots-Tag:noindex
X-PUBLISHED-TTL:PT1H
BEGIN:VTIMEZONE
TZID:America/New_York
BEGIN:DAYLIGHT
TZOFFSETFROM:-0500
TZOFFSETTO:-0400
TZNAME:EDT
DTSTART:20220313T070000
END:DAYLIGHT
BEGIN:STANDARD
TZOFFSETFROM:-0400
TZOFFSETTO:-0500
TZNAME:EST
DTSTART:20221106T060000
END:STANDARD
END:VTIMEZONE
BEGIN:VEVENT
DTSTART;TZID=America/New_York:20221205T193000
DTEND;TZID=America/New_York:20221205T210000
DTSTAMP:20260420T150541
CREATED:20221115T215435Z
LAST-MODIFIED:20221213T145945Z
UID:3684-1670268600-1670274000@restorationchristianculture.org
SUMMARY:Was America's Founding Fatally Flawed by the Provenance of Its Ideas? with Robert Reilly
DESCRIPTION:Troubled by the ample evidence of a moral decline in the United States\, some Catholic thinkers trace the problem to what they see as a fatal flaw in the American Founding: a reliance on the philosophical principles of the Enlightenment. Robert Reilly\, the author of America on Trial\, disagrees. He argues that the political ideas of the Founders are compatible with—and indeed derived from—the tradition of respect for Reason and Revelation\, Church and State\, developed by Catholic philosophers of the Middle Ages.\n \n\n \nRobert R. Reilly is Director of the Westminster Institute. In his twenty-five years of government service\, he served as Special Assistant to the President and as Director of the Voice of America\, was Senior Advisor for Information Strategy to the Secretary of Defense\, and taught at National Defense University. He attended Georgetown University and the Claremont Graduate University\, and he has published widely on American politics and morals\, foreign policy\, and classical music. His books include Making Gay Okay: How Rationalizing Homosexual Behavior Is Changing Everything\, Surprised by Beauty: A Listener’s Guide to the Recovery of Modern Music\, and The Closing of the Muslim Mind: How Intellectual Suicide Created the Modern Islamist Crisis. His latest book is America on Trial: A Defense of the Founding.
URL:https://restorationchristianculture.org/event/was-americas-founding-fatally-flawed-by-the-provenance-of-its-ideas-with-robert-reilly/
LOCATION:Mercy Hall\, 90 Concord St.\, Nashua\, NH\, 03060\, United States
CATEGORIES:Lectures
ATTACH;FMTTYPE=image/jpeg:https://restorationchristianculture.org/wp-content/uploads/Declaration_of_Independence_1819_by_John_Trumbull-scaled.jpg
END:VEVENT
END:VCALENDAR